BEGIN:VCALENDAR
PRODID:-//eluceo/ical//2.0/EN
VERSION:2.0
CALSCALE:GREGORIAN
BEGIN:VEVENT
UID:162f9baa72abc22a7ddea0f5953d5579
DTSTAMP:20260419T123909Z
SUMMARY:"Psychiatrie im Wandel"
DESCRIPTION:Web stranica: http://www.bellevue-palace.ch\nGovornik(ci): Dr. 
 Jean-Marc Lüthi\, VRP Psychiatrie-Zentrum Münsingen und VR Universitäre
  Psychiatrische Dienste UPD Bern
URL:https://bern.rotary1990.ch/bs/agenda/show/207208
DTSTART;TZID=Europe/Zurich:20260224T121500
DTEND;TZID=Europe/Zurich:20260224T133000
LOCATION:Hotel Bellevue Palace\, Kochergasse 3-5\, 3011 Bern
CATEGORIES:Rotary
END:VEVENT
BEGIN:VTIMEZONE
TZID:Europe/Zurich
BEGIN:STANDARD
DTSTART:20260224T121500
TZNAME:CET
TZOFFSETTO:+0100
TZOFFSETFROM:+0100
END:STANDARD
END:VTIMEZONE
END:VCALENDAR
